BEGIN:VCALENDAR
VERSION:2.0
PRODID:-//Home - Divine Grace of Glory Church - DGOGC - Prophet P.I.A Obaseki Ministries - (General Overseer) - ECPv6.8.3//NONSGML v1.0//EN
CALSCALE:GREGORIAN
METHOD:PUBLISH
X-ORIGINAL-URL:https://dgogc.org
X-WR-CALDESC:Events for Home - Divine Grace of Glory Church - DGOGC - Prophet P.I.A Obaseki Ministries - (General Overseer)
REFRESH-INTERVAL;VALUE=DURATION:PT1H
X-Robots-Tag:noindex
X-PUBLISHED-TTL:PT1H
BEGIN:VTIMEZONE
TZID:UTC
BEGIN:STANDARD
TZOFFSETFROM:+0000
TZOFFSETTO:+0000
TZNAME:UTC
DTSTART:20210101T000000
END:STANDARD
END:VTIMEZONE
BEGIN:VEVENT
DTSTART;TZID=UTC:20211124T080000
DTEND;TZID=UTC:20211124T170000
DTSTAMP:20260422T103727
CREATED:20211124T213853Z
LAST-MODIFIED:20211124T214016Z
UID:4005-1637740800-1637773200@dgogc.org
SUMMARY:Amazing Sisters' Fellowship Service - Saturday\, 11th December\, 2021
DESCRIPTION:Amazing Sisters! \nThe Amazing Sisters Fellowship would be having her meeting today\, Saturday\, 11th December\, 2021\, 2021 at the Branch. \nGod Bless you as you attend! \nEvang (Mrs.) Favour .O. Obaseki
URL:https://dgogc.org/event/amazing-sisters-fellowship-service-saturday-11th-december-2021/
LOCATION:Branch: Divine Grace of Glory Church\, Divine Grace of Glory Church Branch\, 40\, Ajayi Street\, Off Obazee Street\, Upper Mission\, New Benin\, Benin City\, Edo State\, Nigeria\, Benin City\, Edo State\, 320001\, Nigeria
CATEGORIES:Amazing Sisters' Fellowship
ATTACH;FMTTYPE=image/jpeg:https://dgogcorgheadquartersdivinegrace.b-cdn.net/wp-content/uploads/2021/11/MGTV0245.jpg
END:VEVENT
BEGIN:VEVENT
DTSTART;TZID=UTC:20211124T080000
DTEND;TZID=UTC:20211124T170000
DTSTAMP:20260422T103727
CREATED:20211124T215543Z
LAST-MODIFIED:20211124T215543Z
UID:4014-1637740800-1637773200@dgogc.org
SUMMARY:Amazing Women Prayer Fellowship - Monday\, 6th December\, 2021
DESCRIPTION:Heavenly Greetings! \nThe Amazing Women Prayer Fellowship would be holding a meeting on Monday\, 6th December\, 2021. \n  \nGod Bless You as you attend!
URL:https://dgogc.org/event/amazing-women-prayer-fellowship-monday-6th-december-2021/
LOCATION:Branch: Divine Grace of Glory Church\, Divine Grace of Glory Church Branch\, 40\, Ajayi Street\, Off Obazee Street\, Upper Mission\, New Benin\, Benin City\, Edo State\, Nigeria\, Benin City\, Edo State\, 320001\, Nigeria
CATEGORIES:Amazing Sisters' Fellowship,Divine Grace of Glory Church
ATTACH;FMTTYPE=image/png:https://dgogcorgheadquartersdivinegrace.b-cdn.net/wp-content/uploads/2021/11/g.png
END:VEVENT
BEGIN:VEVENT
DTSTART;TZID=UTC:20211127T080000
DTEND;TZID=UTC:20211127T120000
DTSTAMP:20260422T103727
CREATED:20211124T213134Z
LAST-MODIFIED:20211124T213945Z
UID:4001-1638000000-1638014400@dgogc.org
SUMMARY:Amazing Sisters' Fellowship Service - Saturday\, 27th November\, 2021
DESCRIPTION:Amazing Sisters! \nThe Amazing Sisters Fellowship would be having her meeting today\, Saturday\, 27th November\, 2021 at the Branch. \nGod Bless you as you attend! \nEvang (Mrs.) Favour .O. Obaseki
URL:https://dgogc.org/event/amazing-sisters-fellowship-service-2/
LOCATION:Branch: Divine Grace of Glory Church\, Divine Grace of Glory Church Branch\, 40\, Ajayi Street\, Off Obazee Street\, Upper Mission\, New Benin\, Benin City\, Edo State\, Nigeria\, Benin City\, Edo State\, 320001\, Nigeria
CATEGORIES:Amazing Sisters' Fellowship
ATTACH;FMTTYPE=image/png:https://dgogcorgheadquartersdivinegrace.b-cdn.net/wp-content/uploads/2021/11/g.png
END:VEVENT
END:VCALENDAR